BEGIN:VCALENDAR
VERSION:2.0
PRODID:hinto.net
X-PUBLISHED-TTL:P1W
BEGIN:VEVENT
UID:hinto.net-event_show-6925523
DTSTART:20260516T220000
SEQUENCE:0
CREATED:20260419T052251
LAST-MODIFIED:20260419T052251
TRANSP:OPAQUE

LOCATION:Conrad Sohm
SUMMARY:Bonkers
CLASS:PUBLIC
DESCRIPTION:
ORGANIZER:
DTSTAMP:20260420T044938
ATTACH:https://www.hinto.net/de/events/bonkers-16-05-2026-2200-conrad-sohm-dornbirn-e2847564-20.html
END:VEVENT
END:VCALENDAR
