BEGIN:VCALENDAR
VERSION:2.0
PRODID:hinto.net
X-PUBLISHED-TTL:P1W
BEGIN:VEVENT
UID:hinto.net-event_show-6929854
DTSTART:20260618T080000
SEQUENCE:0
CREATED:20260420T222244
LAST-MODIFIED:20260420T222244
TRANSP:OPAQUE
DTEND:20260618T140000
LOCATION:
SUMMARY:Basler Stadtmarkt
CLASS:PUBLIC
DESCRIPTION:
ORGANIZER:
DTSTAMP:20260421T121536
ATTACH:https://www.hinto.net/de/events/basler-stadtmarkt-18-06-2026-0800-basel-e2829358-20.html
END:VEVENT
END:VCALENDAR
