BEGIN:VCALENDAR
VERSION:2.0
PRODID:hinto.net
X-PUBLISHED-TTL:P1W
BEGIN:VEVENT
UID:hinto.net-event_show-6892260
DTSTART:20260429T122500
SEQUENCE:0
CREATED:20260408T181423
LAST-MODIFIED:20260408T181423
TRANSP:OPAQUE
DTEND:20260429T131000
LOCATION:
SUMMARY:Arte: Stadt Land Kunst
CLASS:PUBLIC
DESCRIPTION:
ORGANIZER:
DTSTAMP:20260420T011703
ATTACH:https://www.hinto.net/de/events/arte-stadt-land-kunst-29-04-2026-1225-e2818366-20.html
END:VEVENT
END:VCALENDAR
