BEGIN:VCALENDAR
VERSION:2.0
PRODID:hinto.net
X-PUBLISHED-TTL:P1W
BEGIN:VEVENT
UID:hinto.net-event_show-6862956
DTSTART:20260419T191000
SEQUENCE:0
CREATED:20260329T151704
LAST-MODIFIED:20260329T151704
TRANSP:OPAQUE
DTEND:20260419T193000
LOCATION:
SUMMARY:Arte: ARTE Journal
CLASS:PUBLIC
DESCRIPTION:
ORGANIZER:
DTSTAMP:20260420T022218
ATTACH:https://www.hinto.net/de/events/arte-arte-journal-19-04-2026-1910-e2793572-20.html
END:VEVENT
END:VCALENDAR
