BEGIN:VCALENDAR
VERSION:2.0
PRODID:hinto.net
X-PUBLISHED-TTL:P1W
BEGIN:VEVENT
UID:hinto.net-event_show-6916734
DTSTART:20260419T040000
SEQUENCE:0
CREATED:20260417T021040
LAST-MODIFIED:20260417T021040
TRANSP:OPAQUE
DTEND:20260419T044500
LOCATION:
SUMMARY:Arte: 28 Minuten
CLASS:PUBLIC
DESCRIPTION:
ORGANIZER:
DTSTAMP:20260419T144609
ATTACH:https://www.hinto.net/de/events/arte-28-minuten-19-04-2026-0400-e2839691-20.html
END:VEVENT
END:VCALENDAR
