BEGIN:VCALENDAR
VERSION:2.0
PRODID:hinto.net
X-PUBLISHED-TTL:P1W
BEGIN:VEVENT
UID:hinto.net-event_show-6862734
DTSTART:20260419T120300
SEQUENCE:0
CREATED:20260329T150541
LAST-MODIFIED:20260329T150541
TRANSP:OPAQUE
DTEND:20260419T124500
LOCATION:
SUMMARY:ARD: Presseclub
CLASS:PUBLIC
DESCRIPTION:
ORGANIZER:
DTSTAMP:20260419T174020
ATTACH:https://www.hinto.net/de/events/ard-presseclub-19-04-2026-1203-e2793350-20.html
END:VEVENT
END:VCALENDAR
