BEGIN:VCALENDAR
VERSION:2.0
PRODID:hinto.net
X-PUBLISHED-TTL:P1W
BEGIN:VEVENT
UID:hinto.net-event_show-6873078
DTSTART:20260422T234500
SEQUENCE:0
CREATED:20260402T051211
LAST-MODIFIED:20260402T051211
TRANSP:OPAQUE
DTEND:20260423T001500
LOCATION:
SUMMARY:5+: King of Queens
CLASS:PUBLIC
DESCRIPTION:
ORGANIZER:
DTSTAMP:20260424T160000
ATTACH:https://www.hinto.net/de/events/5+-king-of-queens-22-04-2026-2345-e2801482-20.html
END:VEVENT
END:VCALENDAR
