BEGIN:VCALENDAR
VERSION:2.0
PRODID:hinto.net
X-PUBLISHED-TTL:P1W
BEGIN:VEVENT
UID:hinto.net-event_show-6922313
DTSTART:20260418T223000
SEQUENCE:0
CREATED:20260418T113547
LAST-MODIFIED:20260418T113547
TRANSP:OPAQUE
DTEND:20260419T004500
LOCATION:
SUMMARY:4+: The Punisher
CLASS:PUBLIC
DESCRIPTION:
ORGANIZER:
DTSTAMP:20260419T144510
ATTACH:https://www.hinto.net/de/events/4+-the-punisher-18-04-2026-2230-e2844840-20.html
END:VEVENT
END:VCALENDAR
