BEGIN:VCALENDAR
VERSION:2.0
PRODID:hinto.net
X-PUBLISHED-TTL:P1W
BEGIN:VEVENT
UID:hinto.net-event_show-6922314
DTSTART:20260419T030500
SEQUENCE:0
CREATED:20260418T113548
LAST-MODIFIED:20260418T113548
TRANSP:OPAQUE
DTEND:20260419T060000
LOCATION:
SUMMARY:4+: Susi.live
CLASS:PUBLIC
DESCRIPTION:
ORGANIZER:
DTSTAMP:20260419T144502
ATTACH:https://www.hinto.net/de/events/4+-susi-live-19-04-2026-0305-e2844841-20.html
END:VEVENT
END:VCALENDAR
