BEGIN:VCALENDAR
VERSION:2.0
PRODID:hinto.net
X-PUBLISHED-TTL:P1W
BEGIN:VEVENT
UID:hinto.net-event_show-6863023
DTSTART:20260419T201500
SEQUENCE:0
CREATED:20260419T134620
LAST-MODIFIED:20260419T134620
TRANSP:OPAQUE
DTEND:20260419T225000
LOCATION:
SUMMARY:4+: Kraven the Hunter
CLASS:PUBLIC
DESCRIPTION:
ORGANIZER:
DTSTAMP:20260420T055009
ATTACH:https://www.hinto.net/de/events/4+-kraven-the-hunter-19-04-2026-2015-e2793639-20.html
END:VEVENT
END:VCALENDAR
