BEGIN:VCALENDAR
VERSION:2.0
PRODID:hinto.net
X-PUBLISHED-TTL:P1W
BEGIN:VEVENT
UID:hinto.net-event_show-6863001
DTSTART:20260419T050000
SEQUENCE:0
CREATED:20260329T152037
LAST-MODIFIED:20260329T152037
TRANSP:OPAQUE
DTEND:20260419T060000
LOCATION:
SUMMARY:3+: premiumshopping.tv
CLASS:PUBLIC
DESCRIPTION:
ORGANIZER:
DTSTAMP:20260420T093326
ATTACH:https://www.hinto.net/de/events/3+-premiumshopping-tv-19-04-2026-0500-e2793617-20.html
END:VEVENT
END:VCALENDAR
