BEGIN:VCALENDAR
VERSION:2.0
PRODID:hinto.net
X-PUBLISHED-TTL:P1W
BEGIN:VEVENT
UID:hinto.net-event_show-6925013
DTSTART:20260421T163000
SEQUENCE:0
CREATED:20260419T051942
LAST-MODIFIED:20260419T051942
TRANSP:OPAQUE
DTEND:20260421T190000
LOCATION:tiRumpel
SUMMARY:QuartierSchalter
CLASS:PUBLIC
DESCRIPTION:
ORGANIZER:
DTSTAMP:20260420T040333
ATTACH:https://www.hinto.net/de/events/quartierschalter-21-04-2026-1630-tirumpel-st-gallen-e2847260-20.html
END:VEVENT
END:VCALENDAR
