BEGIN:VCALENDAR
VERSION:2.0
PRODID:hinto.net
X-PUBLISHED-TTL:P1W
BEGIN:VEVENT
UID:hinto.net-event_show-6779416
DTSTART:20260610T180000
SEQUENCE:0
CREATED:20260306T165657
LAST-MODIFIED:20260306T165657
TRANSP:OPAQUE

LOCATION:Geigenbau Schranz
SUMMARY:Agma Duo
CLASS:PUBLIC
DESCRIPTION:
ORGANIZER:
DTSTAMP:20260420T040343
ATTACH:https://www.hinto.net/de/events/agma-duo-10-06-2026-1800-geigenbau-schranz-thun-e2734553-20.html
END:VEVENT
END:VCALENDAR
